BEGIN:VCALENDAR
VERSION:2.0
PRODID:-//ConQuMat - TRR360 - ECPv6.15.20//NONSGML v1.0//EN
CALSCALE:GREGORIAN
METHOD:PUBLISH
X-WR-CALNAME:ConQuMat - TRR360
X-ORIGINAL-URL:https://www.trr360.de
X-WR-CALDESC:Events for ConQuMat - TRR360
REFRESH-INTERVAL;VALUE=DURATION:PT1H
X-Robots-Tag:noindex
X-PUBLISHED-TTL:PT1H
BEGIN:VTIMEZONE
TZID:Europe/Berlin
BEGIN:DAYLIGHT
TZOFFSETFROM:+0100
TZOFFSETTO:+0200
TZNAME:CEST
DTSTART:20240331T010000
END:DAYLIGHT
BEGIN:STANDARD
TZOFFSETFROM:+0200
TZOFFSETTO:+0100
TZNAME:CET
DTSTART:20241027T010000
END:STANDARD
BEGIN:DAYLIGHT
TZOFFSETFROM:+0100
TZOFFSETTO:+0200
TZNAME:CEST
DTSTART:20250330T010000
END:DAYLIGHT
BEGIN:STANDARD
TZOFFSETFROM:+0200
TZOFFSETTO:+0100
TZNAME:CET
DTSTART:20251026T010000
END:STANDARD
BEGIN:DAYLIGHT
TZOFFSETFROM:+0100
TZOFFSETTO:+0200
TZNAME:CEST
DTSTART:20260329T010000
END:DAYLIGHT
BEGIN:STANDARD
TZOFFSETFROM:+0200
TZOFFSETTO:+0100
TZNAME:CET
DTSTART:20261025T010000
END:STANDARD
END:VTIMEZONE
BEGIN:VEVENT
DTSTART;TZID=Europe/Berlin:20251104T160000
DTEND;TZID=Europe/Berlin:20251104T170000
DTSTAMP:20260424T144724
CREATED:20251007T095009Z
LAST-MODIFIED:20251029T225015Z
UID:5900-1762272000-1762275600@www.trr360.de
SUMMARY:TRR 360 Seminar: Imaging Magnetic Dynamics with In-situ and Ultrafast Lorentz Microscopy Sascha Schäfer
DESCRIPTION:Imaging Magnetic Dynamics with In-situ and Ultrafast Lorentz Microscopy \nProf. Dr. Sascha Schäfer \nDepartment of Physics\, University of Regensburg\, Regensburg\, GermanyRegensburg Center for Ultrafast Nanoscopy (RUN)\, Regensburg\, Germany \nThe interaction of magnetic materials with ultrashort light pulses provides intriguing glimpses into the inner workings of the magnetic couplings within a material but also offers an important experimental handle to locally manipulate magnetic textures and phases. Whereas many studies in the field of ultrafast magnetism have utilized various optical pump-probe methodologies\, these approaches often lack the required spatial resolution for mapping the nanoscale details of magnetic textures. Here\, I will present two methodologies to address ultrafast nanoscale magnetic dynamics in Lorentz microscopy. \nIn the first part of the talk\, I will discuss how in-situ Lorentz microscopy with femtosecond optical excitation [1] can unravel nonlinearities in the magnetic response upon light excitation\, focusing on the example of light-induced switching processes in the magnetic texture of Fe3Sn2 thin films [2]. This material hosts dipolar skyrmions [3] which are composed of chiral Bloch-like domain walls in the interior of the film and chiral Néel-like caps at each film surface. Femtosecond light pulses allow for the stochastic switching of the Néel cap chirality. The analysis of switching probabilities yields insights into the importance of interactions within and in-between skyrmions.    \nIn the second part of the talk\, I will discuss the current state of ultrafast transmission electron microscopy [4]\, specifically ultrafast Lorentz microscopy [6]\, in which femtosecond or picosecond electron pulses enable the stroboscopic imaging of optically or current-driven magnetic dynamics. I will highlight the impact of novel femtosecond electron sources\, including radiofrequency beam choppers [7] and laser-driven cold-field emitter sources [8]\, for different magnetic imaging techniques in electron microscopy\, as well as emerging possibilities due to fast electron detectors [9]. \n[1] T. Eggebrecht; M. Möller et al.\, Phys. Rev. Lett. 118\, 097203 (2017). [2] A Kovács\, J. T. Weber et al.\, Comm. Mat. 6\, 223\, (2025).[3] L. Kong et al.\, Phys. Rev. B 107\, 174425 (2023).[4] Feist et al.\, Ultramicroscopy 176\, 63 (2017).[5] Feist et al.\, Nature 521\, 200 (2015). [6] N. Rubiano da Silva et al.\, Phys. Rev. X 8\, 031052 (2018).[7] C. Liu et al.\, Nat. Mat. 24\, 406 (2025).[8] A. Schröder et al.\, Ultramicroscopy 275\, 114158 (2025).[9] A. Schröder et al.\, Ultramicroscopy 256\, 113881 (2024). \n\n\n\n\n\n\nVenue
URL:https://www.trr360.de/event/trr-360-seminar-tba-sascha-schafer/
LOCATION:University of Augsburg\, Room S-288 + Zoom
CATEGORIES:Seminar
END:VEVENT
END:VCALENDAR