BEGIN:VCALENDAR
VERSION:2.0
PRODID:-//ConQuMat - TRR360 - ECPv6.15.20//NONSGML v1.0//EN
CALSCALE:GREGORIAN
METHOD:PUBLISH
X-ORIGINAL-URL:https://www.trr360.de
X-WR-CALDESC:Events for ConQuMat - TRR360
REFRESH-INTERVAL;VALUE=DURATION:PT1H
X-Robots-Tag:noindex
X-PUBLISHED-TTL:PT1H
BEGIN:VTIMEZONE
TZID:Europe/Berlin
BEGIN:DAYLIGHT
TZOFFSETFROM:+0100
TZOFFSETTO:+0200
TZNAME:CEST
DTSTART:20240331T010000
END:DAYLIGHT
BEGIN:STANDARD
TZOFFSETFROM:+0200
TZOFFSETTO:+0100
TZNAME:CET
DTSTART:20241027T010000
END:STANDARD
BEGIN:DAYLIGHT
TZOFFSETFROM:+0100
TZOFFSETTO:+0200
TZNAME:CEST
DTSTART:20250330T010000
END:DAYLIGHT
BEGIN:STANDARD
TZOFFSETFROM:+0200
TZOFFSETTO:+0100
TZNAME:CET
DTSTART:20251026T010000
END:STANDARD
BEGIN:DAYLIGHT
TZOFFSETFROM:+0100
TZOFFSETTO:+0200
TZNAME:CEST
DTSTART:20260329T010000
END:DAYLIGHT
BEGIN:STANDARD
TZOFFSETFROM:+0200
TZOFFSETTO:+0100
TZNAME:CET
DTSTART:20261025T010000
END:STANDARD
END:VTIMEZONE
BEGIN:VEVENT
DTSTART;TZID=Europe/Berlin:20250617T140000
DTEND;TZID=Europe/Berlin:20250617T150000
DTSTAMP:20260424T223650
CREATED:20250615T173245Z
LAST-MODIFIED:20250615T180740Z
UID:5347-1750168800-1750172400@www.trr360.de
SUMMARY:TRR 360 Seminar: Some exotic phases for spin-1/2 on the triangular lattice Sylvain Capponi
DESCRIPTION:Some exotic phases for spin-1/2 on the triangular lattice \nProf. Dr. Sylvain Capponi \nLaboratoire de Physique Théorique\, Université de Toulouse\, CNRS\, UPS\, France \n  \nThe triangular lattice is at the origin of magnetic frustration both for Ising or Heisenberg models\, as shown by Wannier and Anderson respectively. Hence it is a natural testbed to stabilize unconventional phases of matter. In this talk\, I will present two recent numerical studies discussing \n(i) the possibility of a Dirac spin liquid in the J1-J2 Heisenberg model [1](ii) the possibility of a supersolid phase in the XXZ model [2] and its relevance to recent scattering experiments on K2Co(SeO3)2 \n  \n[1] A. Wietek\, S. Capponi\, and A. Läuchli\, Phys. Rev. X 14\, 021010 (2024)[2] S. Capponi and A. Läuchli\, in preparation \n\n\n\n\n\n\nVenue
URL:https://www.trr360.de/event/trr-360-seminar-some-exotic-phases-for-spin-1-2-on-the-triangular-lattice-sylvain-capponi/
LOCATION:Technical University Munich + Zoom
CATEGORIES:Seminar
END:VEVENT
END:VCALENDAR