BEGIN:VCALENDAR
VERSION:2.0
PRODID:-//ConQuMat - TRR360 - ECPv6.15.20//NONSGML v1.0//EN
CALSCALE:GREGORIAN
METHOD:PUBLISH
X-WR-CALNAME:ConQuMat - TRR360
X-ORIGINAL-URL:https://www.trr360.de
X-WR-CALDESC:Events for ConQuMat - TRR360
REFRESH-INTERVAL;VALUE=DURATION:PT1H
X-Robots-Tag:noindex
X-PUBLISHED-TTL:PT1H
BEGIN:VTIMEZONE
TZID:Europe/Berlin
BEGIN:DAYLIGHT
TZOFFSETFROM:+0100
TZOFFSETTO:+0200
TZNAME:CEST
DTSTART:20240331T010000
END:DAYLIGHT
BEGIN:STANDARD
TZOFFSETFROM:+0200
TZOFFSETTO:+0100
TZNAME:CET
DTSTART:20241027T010000
END:STANDARD
BEGIN:DAYLIGHT
TZOFFSETFROM:+0100
TZOFFSETTO:+0200
TZNAME:CEST
DTSTART:20250330T010000
END:DAYLIGHT
BEGIN:STANDARD
TZOFFSETFROM:+0200
TZOFFSETTO:+0100
TZNAME:CET
DTSTART:20251026T010000
END:STANDARD
BEGIN:DAYLIGHT
TZOFFSETFROM:+0100
TZOFFSETTO:+0200
TZNAME:CEST
DTSTART:20260329T010000
END:DAYLIGHT
BEGIN:STANDARD
TZOFFSETFROM:+0200
TZOFFSETTO:+0100
TZNAME:CET
DTSTART:20261025T010000
END:STANDARD
END:VTIMEZONE
BEGIN:VEVENT
DTSTART;TZID=Europe/Berlin:20250610T160000
DTEND;TZID=Europe/Berlin:20250610T170000
DTSTAMP:20260424T222912
CREATED:20250328T140451Z
LAST-MODIFIED:20250605T154220Z
UID:5012-1749571200-1749574800@www.trr360.de
SUMMARY:TRR 360 Seminar: Randomness\, disorder and compromises in magnetic systems Ellen Fogh
DESCRIPTION:Randomness\, disorder and compromises in magnetic systems \nProf. Dr. Ellen Fogh \nTechnical University of Munich \n  \nThe interplay between randomness\, disorder and frustration in magnetic systems may bring about interesting ground states and behaviours. Many real materials display intrinsic inhomogeneity\, as a result of impurities or (counter)ion substitution\, that results in site or bond disorder. This is known as quenched randomness\, and the loss of translational symmetry it entails makes the system challenging to study theoretically. However\, quenched randomness in magnetic systems can lead to specific ground states with no long-ranged order\, including glassy states and the random-singlet state but also various long-range ordered states. Some of these phases of matter are closely related to certain types of quantum spin liquids and thus raise the question of whether randomness in a frustrated system can produce qualitatively different types of quantum coherence\, as opposed to only destroying such coherence. Here\, I discuss three specific cases of how randomness and disorder have profound consequences for physical behaviour of such magnetic systems. \n\n\n\n\n\n\nVenue
URL:https://www.trr360.de/event/trr-360-seminar-tba-ellen-fogh/
LOCATION:University of Augsburg\, Room S-288 + Zoom
CATEGORIES:Seminar
END:VEVENT
END:VCALENDAR