BEGIN:VCALENDAR
VERSION:2.0
PRODID:-//ConQuMat - TRR360 - ECPv6.15.20//NONSGML v1.0//EN
CALSCALE:GREGORIAN
METHOD:PUBLISH
X-WR-CALNAME:ConQuMat - TRR360
X-ORIGINAL-URL:https://www.trr360.de
X-WR-CALDESC:Events for ConQuMat - TRR360
REFRESH-INTERVAL;VALUE=DURATION:PT1H
X-Robots-Tag:noindex
X-PUBLISHED-TTL:PT1H
BEGIN:VTIMEZONE
TZID:Europe/Berlin
BEGIN:DAYLIGHT
TZOFFSETFROM:+0100
TZOFFSETTO:+0200
TZNAME:CEST
DTSTART:20240331T010000
END:DAYLIGHT
BEGIN:STANDARD
TZOFFSETFROM:+0200
TZOFFSETTO:+0100
TZNAME:CET
DTSTART:20241027T010000
END:STANDARD
BEGIN:DAYLIGHT
TZOFFSETFROM:+0100
TZOFFSETTO:+0200
TZNAME:CEST
DTSTART:20250330T010000
END:DAYLIGHT
BEGIN:STANDARD
TZOFFSETFROM:+0200
TZOFFSETTO:+0100
TZNAME:CET
DTSTART:20251026T010000
END:STANDARD
BEGIN:DAYLIGHT
TZOFFSETFROM:+0100
TZOFFSETTO:+0200
TZNAME:CEST
DTSTART:20260329T010000
END:DAYLIGHT
BEGIN:STANDARD
TZOFFSETFROM:+0200
TZOFFSETTO:+0100
TZNAME:CET
DTSTART:20261025T010000
END:STANDARD
END:VTIMEZONE
BEGIN:VEVENT
DTSTART;TZID=Europe/Berlin:20250225T140000
DTEND;TZID=Europe/Berlin:20250225T150000
DTSTAMP:20260425T030721
CREATED:20250217T164504Z
LAST-MODIFIED:20250221T151234Z
UID:4657-1740492000-1740495600@www.trr360.de
SUMMARY:TRR 360 Seminar: Optically induced quantum spin-disordered state in the Kitaev material α-RuCl3 Paul H. M. van Loosdrecht
DESCRIPTION:Optically induced quantum spin-disordered state in the Kitaev material α-RuCl3 \nProf. Dr. Paul H. M. van Loosdrecht \nUniversität zu Köln \nOne way to characterize quantum spin-liquids is through the fractionalization of spin excitations. A prime example of this is found in the exactly solvable Kitaev model of spin-1/2 moments with anisotropic exchange interactions on a tri-coordinated lattice. To find examples of this kind of physics in nature turns out to be challenging. The currently best-known examples of materials in which Kitaev-like physics plays a central role are the layered spin-orbit entangled J=1/2 systems Na2IrO3\, α-Li2IrO3\, and α-RuCl3. However\, these materials all possess additional interactions\, which\, among other\, lead to a magnetically ordered state at low temperature preventing the formation of a pure Kitaev spin-liquid (KSL) state. Apart from the ongoing quest for materials showing a true KSL ground state\, one can also destabilize the magnetic order in the existing materials\, which potentially can induce the sought-after KSL state. In this contribution I will discuss two methods to destabilize magnetic order in α-RuCl3. The first one is through the application of an in-plane magnetic field. Though it has been shown by various authors that this indeed leads to suppression of the ordered state in α-RuCl3\, the nature of the field-induced state is still not fully clear. The second approach is a pump-probe method which creates holon and doublon excitations. These excitations are found to couple efficiently to magnetic excitations which in turn disorder the magnetically ordered state. For sufficiently high excitation densities the magnetic order is fully suppressed\, leading to a quantum disordered magnetic state. \n\n\n\n\n\n\nVenue
URL:https://www.trr360.de/event/trr-360-seminar-optically-induced-quantum-spin-disordered-state-in-the-kitaev-material-%ce%b1-rucl3-paul-h-m-van-loosdrecht/
LOCATION:University of Augsburg\, Room S-288 + Zoom
CATEGORIES:Seminar
END:VEVENT
END:VCALENDAR