BEGIN:VCALENDAR
VERSION:2.0
PRODID:-//ConQuMat - TRR360 - ECPv6.15.20//NONSGML v1.0//EN
CALSCALE:GREGORIAN
METHOD:PUBLISH
X-ORIGINAL-URL:https://www.trr360.de
X-WR-CALDESC:Events for ConQuMat - TRR360
REFRESH-INTERVAL;VALUE=DURATION:PT1H
X-Robots-Tag:noindex
X-PUBLISHED-TTL:PT1H
BEGIN:VTIMEZONE
TZID:Europe/Berlin
BEGIN:DAYLIGHT
TZOFFSETFROM:+0100
TZOFFSETTO:+0200
TZNAME:CEST
DTSTART:20240331T010000
END:DAYLIGHT
BEGIN:STANDARD
TZOFFSETFROM:+0200
TZOFFSETTO:+0100
TZNAME:CET
DTSTART:20241027T010000
END:STANDARD
BEGIN:DAYLIGHT
TZOFFSETFROM:+0100
TZOFFSETTO:+0200
TZNAME:CEST
DTSTART:20250330T010000
END:DAYLIGHT
BEGIN:STANDARD
TZOFFSETFROM:+0200
TZOFFSETTO:+0100
TZNAME:CET
DTSTART:20251026T010000
END:STANDARD
BEGIN:DAYLIGHT
TZOFFSETFROM:+0100
TZOFFSETTO:+0200
TZNAME:CEST
DTSTART:20260329T010000
END:DAYLIGHT
BEGIN:STANDARD
TZOFFSETFROM:+0200
TZOFFSETTO:+0100
TZNAME:CET
DTSTART:20261025T010000
END:STANDARD
END:VTIMEZONE
BEGIN:VEVENT
DTSTART;TZID=Europe/Berlin:20250703T110000
DTEND;TZID=Europe/Berlin:20250703T120000
DTSTAMP:20260424T192744
CREATED:20250702T103620Z
LAST-MODIFIED:20250702T103621Z
UID:5401-1751540400-1751544000@www.trr360.de
SUMMARY:TRR 360 Sonderseminar: Emergence of novel quantum phases in Yb-based effective spin-1/2 systems with competing exchange interactions Takahiro Onimaru
DESCRIPTION:Emergence of novel quantum phases in Yb-based effective spin-1/2 systems with competing exchange interactions \n\n\n\nProf. Dr. Takahiro Onimaru \n\n\n\nHiroshima University\, Japan \n\n\n\n \n\n\n\n\n\n\n\nVenue
URL:https://www.trr360.de/event/trr-360-sonderseminar-emergence-of-novel-quantum-phases-in-yb-based-effective-spin-1-2-systems-with-competing-exchange-interactions-takahiro-onimaru/
LOCATION:University of Augsburg\, Room S-254 + Zoom
CATEGORIES:Sonderseminar
END:VEVENT
BEGIN:VEVENT
DTSTART;TZID=Europe/Berlin:20250708T160000
DTEND;TZID=Europe/Berlin:20250708T170000
DTSTAMP:20260424T192744
CREATED:20250328T140752Z
LAST-MODIFIED:20250701T233651Z
UID:5018-1751990400-1751994000@www.trr360.de
SUMMARY:TRR 360 Seminar: Frustrated Triangular Lattice Magnetism in Delafossite Type Yb- (and Cr-based) Systems- from spin liquid to field induced order Michael Baenitz
DESCRIPTION:Frustrated Triangular Lattice Magnetism in Delafossite Type Yb- (and Cr-based) Systems- from spin liquid to field induced order \nDr. Michael Baenitz \nMax-Planck-Institute for Chemical Physics of Solids \n\n\n\n\n\n\nVenue
URL:https://www.trr360.de/event/trr-360-seminar-tba-michael-baenitz/
LOCATION:University of Augsburg\, Room S-288 + Zoom
CATEGORIES:Seminar
END:VEVENT
BEGIN:VEVENT
DTSTART;TZID=Europe/Berlin:20250708T171500
DTEND;TZID=Europe/Berlin:20250708T181500
DTSTAMP:20260424T192744
CREATED:20250702T084916Z
LAST-MODIFIED:20250702T085154Z
UID:5390-1751994900-1751998500@www.trr360.de
SUMMARY:TRR 360 Sonderseminar: Phase diagram of the heavy-fermion superconductor YbRh2Si2 at ultra-low temperatures Manuel Brando
DESCRIPTION:Phase diagram of the heavy-fermion superconductor YbRh2Si2 at ultra-low temperatures \n\n\n\nDr. Manuel Brando \n\n\n\nMax-Planck-Institute for Chemical Physics of Solids\, Dresden \n\n\n\n \n\n\n\n\n\n\n\nVenue
URL:https://www.trr360.de/event/trr-360-sonderseminar-phase-diagram-of-the-heavy-fermion-superconductor-ybrhsub2-subsi2-at-ultra-low-temperatures-manuel-brando/
LOCATION:University of Augsburg\, Room S-254 + Zoom
CATEGORIES:Sonderseminar
END:VEVENT
BEGIN:VEVENT
DTSTART;TZID=Europe/Berlin:20250722T160000
DTEND;TZID=Europe/Berlin:20250722T170000
DTSTAMP:20260424T192744
CREATED:20250714T091424Z
LAST-MODIFIED:20250714T091425Z
UID:5463-1753200000-1753203600@www.trr360.de
SUMMARY:TRR 360 Seminar: Exploration of Hybrid Skyrmion Systems using Resonant Elastic X-ray Scattering Thorsten Hesjedal
DESCRIPTION:Exploration of Hybrid Skyrmion Systems using Resonant Elastic X-ray Scattering \nProf. Dr. Thorsten Hesjedal \nClarendon Laboratory\, University of Oxford\, UK \n  \nA major challenge in topological magnetism lies in the three-dimensional (3D) exploration of the magnetic textures. Recent efforts have focused on understanding how 2D skyrmion sheets vertically stack to form distinct types of 3D topological strings\, how these strings behave when clamped at an interface\, how they couple across interfaces of dissimilar materials\, and how these ordered states can be manipulated. Our team has advanced the capabilities of polarization- and energy-dependent resonant elastic x-ray scattering (REXS) to probe the 3D structure of magnetic skyrmions and related topological objects\, as well as their dynamics. In this talk\, I will present the latest examples of hybrid skyrmion systems\, with a particular focus on 3D objects at or near surfaces and their dynamical properties. \n\n\n\n\n\n\nVenue
URL:https://www.trr360.de/event/trr-360-seminar-exploration-of-hybrid-skyrmion-systems-using-resonant-elastic-x-ray-scattering-thorsten-hesjedal/
LOCATION:University of Augsburg\, Room S-288 + Zoom
CATEGORIES:Seminar
END:VEVENT
BEGIN:VEVENT
DTSTART;TZID=Europe/Berlin:20250730T140000
DTEND;TZID=Europe/Berlin:20250730T150000
DTSTAMP:20260424T192744
CREATED:20250615T180019Z
LAST-MODIFIED:20250730T083333Z
UID:5367-1753884000-1753887600@www.trr360.de
SUMMARY:TRR 360 Seminar: Randomness\, disorder and compromises in magnetic systems Ellen Fogh
DESCRIPTION:Randomness\, disorder and compromises in magnetic systems \nProf. Dr. Ellen Fogh \nTechnical University of Munich \n  \nThe interplay between randomness\, disorder and frustration in magnetic systems may bring about interesting ground states and behaviours. Many real materials display intrinsic inhomogeneity\, as a result of impurities or (counter)ion substitution\, that results in site or bond disorder. This is known as quenched randomness\, and the loss of translational symmetry it entails makes the system challenging to study theoretically. However\, quenched randomness in magnetic systems can lead to specific ground states with no long-ranged order\, including glassy states and the random-singlet state but also various long-range ordered states. Some of these phases of matter are closely related to certain types of quantum spin liquids and thus raise the question of whether randomness in a frustrated system can produce qualitatively different types of quantum coherence\, as opposed to only destroying such coherence. Here\, I discuss three specific cases of how randomness and disorder have profound consequences for physical behaviour of such magnetic systems. \n\n\n\n\n\n\nVenue
URL:https://www.trr360.de/event/trr-360-seminar-tba-ellen-fogh-2/
LOCATION:Technical University Munich + Zoom
CATEGORIES:Seminar
END:VEVENT
END:VCALENDAR