BEGIN:VCALENDAR
VERSION:2.0
PRODID:-//ConQuMat - TRR360 - ECPv6.15.20//NONSGML v1.0//EN
CALSCALE:GREGORIAN
METHOD:PUBLISH
X-ORIGINAL-URL:https://www.trr360.de
X-WR-CALDESC:Events for ConQuMat - TRR360
REFRESH-INTERVAL;VALUE=DURATION:PT1H
X-Robots-Tag:noindex
X-PUBLISHED-TTL:PT1H
BEGIN:VTIMEZONE
TZID:Europe/Berlin
BEGIN:DAYLIGHT
TZOFFSETFROM:+0100
TZOFFSETTO:+0200
TZNAME:CEST
DTSTART:20240331T010000
END:DAYLIGHT
BEGIN:STANDARD
TZOFFSETFROM:+0200
TZOFFSETTO:+0100
TZNAME:CET
DTSTART:20241027T010000
END:STANDARD
BEGIN:DAYLIGHT
TZOFFSETFROM:+0100
TZOFFSETTO:+0200
TZNAME:CEST
DTSTART:20250330T010000
END:DAYLIGHT
BEGIN:STANDARD
TZOFFSETFROM:+0200
TZOFFSETTO:+0100
TZNAME:CET
DTSTART:20251026T010000
END:STANDARD
BEGIN:DAYLIGHT
TZOFFSETFROM:+0100
TZOFFSETTO:+0200
TZNAME:CEST
DTSTART:20260329T010000
END:DAYLIGHT
BEGIN:STANDARD
TZOFFSETFROM:+0200
TZOFFSETTO:+0100
TZNAME:CET
DTSTART:20261025T010000
END:STANDARD
END:VTIMEZONE
BEGIN:VEVENT
DTSTART;TZID=Europe/Berlin:20250410T140000
DTEND;TZID=Europe/Berlin:20250410T150000
DTSTAMP:20260425T001300
CREATED:20250409T173953Z
LAST-MODIFIED:20250410T182623Z
UID:5114-1744293600-1744297200@www.trr360.de
SUMMARY:TRR 360 Sonderseminar: Localized Magnons in the Generalized Model of the Sawtooth Chain with Dzyaloshinskii-Moriya Interactions Vadim Ohanyan
DESCRIPTION:Localized Magnons in the Generalized Model of the Sawtooth Chainwith Dzyaloshinskii-Moriya Interactions \n\n\n\nDr. Vadim Ohanyan \n\n\n\nYerevan State University\, Armenia \n\n\n\n \n\n\n\n\n\n\n\nVenue
URL:https://www.trr360.de/event/trr-360-sonderseminar-localized-magnons-in-the-generalized-model-of-the-sawtooth-chain-with-dzyaloshinskii-moriya-interactions-vadim-ohanyan/
LOCATION:University of Augsburg\, Room S-439
CATEGORIES:Sonderseminar
END:VEVENT
END:VCALENDAR